BEGIN:VCALENDAR
VERSION:2.0
CALSCALE:GREGORIAN
METHOD:PUBLISH
PRODID://IACC//1240187
BEGIN:VEVENT
DTSTAMP:20260421T132844
VTIMEZONE:America/Chicago
DTSTART:20240223T060000Z
DTEND:20251231T060000Z
UID:1240187
SUMMARY:All Things Chamber On-Demand Webinar Program
LOCATION:On Demand Virtual Training, IL
DESCRIPTION:All Things Chamber On-Demand Webinar Program\n\n02/23/24 12:00 AM CST\n - 12/31/25 12:00 AM CST\Description:\nIACCE is pleased to partner with Teri Smiley and Starfish Partnerships for a new All Things Chamber Webinar Series. This program is an excellent staff onboarding program and can also be used as a refresher to current staff members during staff meetings or a staff retreat. The series includes an introduction video and six (6) modules in the areas that cover "All Things Chamber":\n\nAll Things Introduction – Program Overview and Welcome Message\n\n\n	All Things Governance – Governing Documents, Board Role & Responsibilities, Committees & Task Force Groups, Board Meetings & Retreats\n	All Things Operations – Financial Management, Staff Teams & Culture\n	All Things Membership – Recruitment, Relationships, Retention\n	All Things Events & Programs – Event & Program Management, Fundraising, Meetings, Programs\n	All Things Community – Advocacy & Public Policy, Education Programs, Leadership Programs – Adult and Youth\n	All Things “Extra” – Foundations, Marketing & Communications, Non-Dues Revenue, Lessons Learned\n\n\nThe "All Things Chamber" bundle provides pre-recorded material, averaging a hour per module split into several shorter videos for ease of training, plus downloadable notes pages of the power points and additional PDF documents. Participating chambers will also be invited to a private Facebook group for Q&A and connecting with fellow chamber members across the country. This versatile digital resource allows you to utilize the content for a comprehensive staff training or retreat or for individual training at your own pace. You will have access to the recordings through December 31, 2025.\n\nâ€‹IACCE members can purchase this incredible tool for only $195. Upon registration, IACCE will notify Teri and you will receive a unique access code from her for your chamber to use. Please remember that your unique access code may not be share with anyone outside of your chamber staff.\n\nPlease contact Lisa Weitzel at lisa@iacce.org or 217-585-2995 with any questions\n\n \n\Location:\nOn Demand Virtual Training\n\n, IL
X-ALT-DESC;FMTTYPE=text/html:All Things Chamber On-Demand Webinar Program<br /><br />02/23/24 12:00 AM CST - 12/31/25 12:00 AM CST<br />Description:<br /><p>IACCE is pleased to partner with Teri Smiley and <a href="https://www.starfishpartnerships.com/" raw_url="https://www.starfishpartnerships.com/" runtime_url="https://www.starfishpartnerships.com/" target="_blank" type="url">Starfish Partnerships</a> for a new&nbsp;All Things Chamber Webinar Series. This program is an excellent staff onboarding program and can also be used as a refresher to current staff members during staff meetings or a staff retreat. The series includes an introduction video and six (6) modules in the areas that cover &quot;All Things Chamber&quot;:</p>

<p>All Things Introduction&nbsp;&ndash; Program Overview and Welcome Message</p>

<ol>
	<li>All Things Governance&nbsp;&ndash; Governing Documents, Board Role &amp; Responsibilities, Committees &amp; Task Force Groups, Board Meetings &amp; Retreats</li>
	<li>All Things Operations&nbsp;&ndash; Financial Management, Staff Teams &amp; Culture</li>
	<li>All Things Membership&nbsp;&ndash; Recruitment, Relationships, Retention</li>
	<li>All Things Events &amp; Programs&nbsp;&ndash; Event &amp; Program Management, Fundraising, Meetings, Programs</li>
	<li>All Things Community&nbsp;&ndash; Advocacy &amp; Public Policy, Education Programs, Leadership Programs &ndash; Adult and Youth</li>
	<li>All Things &ldquo;Extra&rdquo;&nbsp;&ndash; Foundations, Marketing &amp; Communications, Non-Dues Revenue, Lessons Learned</li>
</ol>

<p>The &quot;All Things Chamber&quot; bundle provides pre-recorded material, averaging a hour per module split into several shorter videos for ease of training, plus downloadable notes pages of the power points and additional PDF documents. Participating chambers will also be invited to a private Facebook group for Q&amp;A and connecting with fellow chamber members across the country. This versatile digital resource allows you to utilize the content for a comprehensive staff training or retreat or for individual training at your own pace. You will have access to the recordings through December 31, 2025.</p>

<p>â€‹IACCE members can purchase this incredible tool for only $195.&nbsp;Upon registration, IACCE will notify Teri and you will receive a unique access code from her for your chamber to use. Please remember that your unique access code may not be share with anyone outside of your chamber staff.</p>

<p>Please contact Lisa Weitzel at lisa@iacce.org or 217-585-2995 with any questions</p>

<p>&nbsp;</p>
<br />Location:<br />On Demand Virtual Training<br /><br />, IL 
PRIORITY:3
TRANSP:TRANSPARENT
BEGIN:VALARM
TRIGGER:-PT5M
ACTION:DISPLAY
DESCRIPTION:Reminder
END:VALARM
END:VEVENT
END:VCALENDAR
